BEGIN:VCALENDAR
VERSION:2.0
PRODID:-//CITNJ - ECPv6.15.20//NONSGML v1.0//EN
CALSCALE:GREGORIAN
METHOD:PUBLISH
X-WR-CALNAME:CITNJ
X-ORIGINAL-URL:https://cit-nj.org
X-WR-CALDESC:Events for CITNJ
REFRESH-INTERVAL;VALUE=DURATION:PT1H
X-Robots-Tag:noindex
X-PUBLISHED-TTL:PT1H
BEGIN:VTIMEZONE
TZID:UTC
BEGIN:STANDARD
TZOFFSETFROM:+0000
TZOFFSETTO:+0000
TZNAME:UTC
DTSTART:20240101T000000
END:STANDARD
END:VTIMEZONE
BEGIN:VEVENT
DTSTART;TZID=UTC:20251107T080000
DTEND;TZID=UTC:20251107T160000
DTSTAMP:20260424T223213
CREATED:20251008T233549Z
LAST-MODIFIED:20251008T233549Z
UID:26338-1762502400-1762531200@cit-nj.org
SUMMARY:Morris County 1-Day CIT-NJ Tele-Communicators Course
DESCRIPTION:🚨 Important CIT Training Notice! 🚨 \nTo ensure a smooth registration process and guarantee your spot\, please remember that pre-registration is mandatory for the Tele-Communicators Course. \nYou must register directly with the individual County Coordinator hosting the training. Spaces are often limited!
URL:https://cit-nj.org/events/morris-county-1-day-cit-nj-tele-communicators-course-2/
ATTACH;FMTTYPE=image/png:https://cit-nj.org/wp-content/uploads/2025/10/dispat.png
END:VEVENT
BEGIN:VEVENT
DTSTART;TZID=UTC:20251103T080000
DTEND;TZID=UTC:20251107T170000
DTSTAMP:20260424T223213
CREATED:20251008T230701Z
LAST-MODIFIED:20251008T230701Z
UID:26320-1762156800-1762534800@cit-nj.org
SUMMARY:Atlantic County 40hr CIT-NJ Program
DESCRIPTION:🚨 Important CIT Training Notice! 🚨\nTo ensure a smooth registration process and guarantee your spot\, please remember that pre-registration is mandatory for all 40-hour Crisis Intervention Team (CIT) training classes. \nYou must register directly with the individual County Coordinator hosting the training. Spaces are often limited! \nSimply showing up on the day of the class will NOT secure your seat. \nFind your County Coordinator’s contact information on the official CIT-NJ website to register today!
URL:https://cit-nj.org/events/atlantic-county-40hr-cit-nj-program-3/
ATTACH;FMTTYPE=image/jpeg:https://cit-nj.org/wp-content/uploads/2020/09/1-Atlantic.jpg
ORGANIZER;CN="CIT-NJ Center of Excellence Program":MAILTO:edobleman@legacytreatment.org
END:VEVENT
BEGIN:VEVENT
DTSTART;TZID=UTC:20251029T100000
DTEND;TZID=UTC:20251029T120000
DTSTAMP:20260424T223213
CREATED:20251008T233335Z
LAST-MODIFIED:20251008T233335Z
UID:26336-1761732000-1761739200@cit-nj.org
SUMMARY:(988 Working Group Meeting)
DESCRIPTION:
URL:https://cit-nj.org/events/988-working-group-meeting/
ATTACH;FMTTYPE=image/jpeg:https://cit-nj.org/wp-content/uploads/2022/04/988.jpg
END:VEVENT
BEGIN:VEVENT
DTSTART;TZID=UTC:20251020T080000
DTEND;TZID=UTC:20251024T170000
DTSTAMP:20260424T223213
CREATED:20251008T230513Z
LAST-MODIFIED:20251008T230513Z
UID:26317-1760947200-1761325200@cit-nj.org
SUMMARY:Somerset County 40hr CIT-NJ Program
DESCRIPTION:🚨 Important CIT Training Notice! 🚨\nTo ensure a smooth registration process and guarantee your spot\, please remember that pre-registration is mandatory for all 40-hour Crisis Intervention Team (CIT) training classes. \nYou must register directly with the individual County Coordinator hosting the training. Spaces are often limited! \nSimply showing up on the day of the class will NOT secure your seat. \nFind your County Coordinator’s contact information on the official CIT-NJ website to register today!
URL:https://cit-nj.org/events/somerset-county-40hr-cit-nj-program-2/
LOCATION:Somerset County Police Academy\, 402 Roycefield Road\, Hillsborough Township\, NJ\, 08844\, United States
ATTACH;FMTTYPE=image/png:https://cit-nj.org/wp-content/uploads/2020/09/18-Somerset.png
ORGANIZER;CN="CIT-NJ Center of Excellence Program":MAILTO:edobleman@legacytreatment.org
END:VEVENT
BEGIN:VEVENT
DTSTART;TZID=UTC:20251020T080000
DTEND;TZID=UTC:20251024T170000
DTSTAMP:20260424T223213
CREATED:20251008T230223Z
LAST-MODIFIED:20251008T230223Z
UID:26315-1760947200-1761325200@cit-nj.org
SUMMARY:Middlesex County 40hr CIT-NJ Program
DESCRIPTION:🚨 Important CIT Training Notice! 🚨\nTo ensure a smooth registration process and guarantee your spot\, please remember that pre-registration is mandatory for all 40-hour Crisis Intervention Team (CIT) training classes. \nYou must register directly with the individual County Coordinator hosting the training. Spaces are often limited! \nSimply showing up on the day of the class will NOT secure your seat. \nFind your County Coordinator’s contact information on the official CIT-NJ website to register today!
URL:https://cit-nj.org/events/middlesex-county-40hr-cit-nj-program/
LOCATION:Middlesex County Prosecutor’s Office Training Center\, N Patrol Road\, Edison\, NJ\, 08837\, United States
ATTACH;FMTTYPE=image/jpeg:https://cit-nj.org/wp-content/uploads/2020/09/12-Middlesex.jpg
ORGANIZER;CN="CIT-NJ Center of Excellence Program":MAILTO:edobleman@legacytreatment.org
END:VEVENT
BEGIN:VEVENT
DTSTART;TZID=UTC:20251020T080000
DTEND;TZID=UTC:20251024T170000
DTSTAMP:20260424T223213
CREATED:20251008T230055Z
LAST-MODIFIED:20251008T230055Z
UID:26313-1760947200-1761325200@cit-nj.org
SUMMARY:Essex County 40hr CIT-NJ Program
DESCRIPTION:🚨 Important CIT Training Notice! 🚨\nTo ensure a smooth registration process and guarantee your spot\, please remember that pre-registration is mandatory for all 40-hour Crisis Intervention Team (CIT) training classes. \nYou must register directly with the individual County Coordinator hosting the training. Spaces are often limited! \nSimply showing up on the day of the class will NOT secure your seat. \nFind your County Coordinator’s contact information on the official CIT-NJ website to register today!
URL:https://cit-nj.org/events/essex-county-40hr-cit-nj-program-4/
ATTACH;FMTTYPE=image/png:https://cit-nj.org/wp-content/uploads/2020/09/7-Essex.png
END:VEVENT
BEGIN:VEVENT
DTSTART;TZID=UTC:20251020T080000
DTEND;TZID=UTC:20251024T170000
DTSTAMP:20260424T223213
CREATED:20251008T225838Z
LAST-MODIFIED:20251008T225838Z
UID:26311-1760947200-1761325200@cit-nj.org
SUMMARY:Cape May County 40hr CIT-NJ Program
DESCRIPTION:🚨 Important CIT Training Notice! 🚨\nTo ensure a smooth registration process and guarantee your spot\, please remember that pre-registration is mandatory for all 40-hour Crisis Intervention Team (CIT) training classes. \nYou must register directly with the individual County Coordinator hosting the training. Spaces are often limited! \nSimply showing up on the day of the class will NOT secure your seat. \nFind your County Coordinator’s contact information on the official CIT-NJ website to register today!
URL:https://cit-nj.org/events/cape-may-county-40hr-cit-nj-program-3/
LOCATION:Cape May Public Stafety Training Center\, 171 Crest Haven Road\, Cape May\, NJ\, 08210\, United States
END:VEVENT
BEGIN:VEVENT
DTSTART;TZID=UTC:20251020T080000
DTEND;TZID=UTC:20251024T170000
DTSTAMP:20260424T223213
CREATED:20251008T225608Z
LAST-MODIFIED:20251008T225608Z
UID:26309-1760947200-1761325200@cit-nj.org
SUMMARY:Passaic County 40hr CIT-NJ Program
DESCRIPTION:🚨 Important CIT Training Notice! 🚨\nTo ensure a smooth registration process and guarantee your spot\, please remember that pre-registration is mandatory for all 40-hour Crisis Intervention Team (CIT) training classes. \nYou must register directly with the individual County Coordinator hosting the training. Spaces are often limited! \nSimply showing up on the day of the class will NOT secure your seat. \nFind your County Coordinator’s contact information on the official CIT-NJ website to register today!
URL:https://cit-nj.org/events/passaic-county-40hr-cit-nj-program-2/
LOCATION:Passaic County Police Academy\, 214 Oldham Road\, Wayne\, NJ\, 07470\, United States
ATTACH;FMTTYPE=image/jpeg:https://cit-nj.org/wp-content/uploads/2020/09/16-Passaic.jpg
ORGANIZER;CN="CIT-NJ Center of Excellence Program":MAILTO:edobleman@legacytreatment.org
END:VEVENT
BEGIN:VEVENT
DTSTART;TZID=UTC:20251020T080000
DTEND;TZID=UTC:20251024T170000
DTSTAMP:20260424T223213
CREATED:20251008T225432Z
LAST-MODIFIED:20251008T225432Z
UID:26306-1760947200-1761325200@cit-nj.org
SUMMARY:Hudson County 40hr CIT-NJ Program
DESCRIPTION:🚨 Important CIT Training Notice! 🚨\nTo ensure a smooth registration process and guarantee your spot\, please remember that pre-registration is mandatory for all 40-hour Crisis Intervention Team (CIT) training classes. \nYou must register directly with the individual County Coordinator hosting the training. Spaces are often limited! \nSimply showing up on the day of the class will NOT secure your seat. \nFind your County Coordinator’s contact information on the official CIT-NJ website to register today!
URL:https://cit-nj.org/events/hudson-county-40hr-cit-nj-program-2/
LOCATION:Hudson County Prosecutor’s Office\, Hudson 595 County Avenue\, Building 3\, Secaucus\, NJ\, 07094\, United States
ATTACH;FMTTYPE=image/jpeg:https://cit-nj.org/wp-content/uploads/2020/09/9-Hudson.jpeg
ORGANIZER;CN="CIT-NJ Center of Excellence Program":MAILTO:edobleman@legacytreatment.org
END:VEVENT
BEGIN:VEVENT
DTSTART;TZID=UTC:20251020T080000
DTEND;TZID=UTC:20251024T170000
DTSTAMP:20260424T223213
CREATED:20251008T224945Z
LAST-MODIFIED:20251008T224945Z
UID:26303-1760947200-1761325200@cit-nj.org
SUMMARY:Hunterdon County 40hr CIT-NJ Program
DESCRIPTION:🚨 Important CIT Training Notice! 🚨\nTo ensure a smooth registration process and guarantee your spot\, please remember that pre-registration is mandatory for all 40-hour Crisis Intervention Team (CIT) training classes. \nYou must register directly with the individual County Coordinator hosting the training. Spaces are often limited! \nSimply showing up on the day of the class will NOT secure your seat. \nFind your County Coordinator’s contact information on the official CIT-NJ website to register today!
URL:https://cit-nj.org/events/hunterdon-county-40hr-cit-nj-program-3/
LOCATION:Hunterdon County Complex\, 314 State Route 12\, Flemington\, NJ\, 08822\, United States
ATTACH;FMTTYPE=image/jpeg:https://cit-nj.org/wp-content/uploads/2020/09/10-Hunterdon.jpg
ORGANIZER;CN="CIT-NJ Center of Excellence Program":MAILTO:edobleman@legacytreatment.org
END:VEVENT
BEGIN:VEVENT
DTSTART;TZID=UTC:20251017T080000
DTEND;TZID=UTC:20251017T160000
DTSTAMP:20260424T223213
CREATED:20251008T233126Z
LAST-MODIFIED:20251008T233126Z
UID:26333-1760688000-1760716800@cit-nj.org
SUMMARY:Morris County 1-Day CIT-NJ Tele-Communicators Course
DESCRIPTION:🚨 Important CIT Training Notice! 🚨\nTo ensure a smooth registration process and guarantee your spot\, please remember that pre-registration is mandatory for the Tele-Communicators Course. \nYou must register directly with the individual County Coordinator hosting the training. Spaces are often limited! \n  \n 
URL:https://cit-nj.org/events/morris-county-1-day-cit-nj-tele-communicators-course/
ATTACH;FMTTYPE=image/png:https://cit-nj.org/wp-content/uploads/2025/10/dispat.png
END:VEVENT
BEGIN:VEVENT
DTSTART;TZID=UTC:20251015T110000
DTEND;TZID=UTC:20251015T110000
DTSTAMP:20260424T223213
CREATED:20251009T000111Z
LAST-MODIFIED:20251009T001521Z
UID:26345-1760526000-1760526000@cit-nj.org
SUMMARY:NJ-VRT Meeting (South Team)
DESCRIPTION:
URL:https://cit-nj.org/events/nj-vrt-meeting-south-team/
ATTACH;FMTTYPE=image/jpeg:https://cit-nj.org/wp-content/uploads/2023/01/vrtnj.jpg
END:VEVENT
BEGIN:VEVENT
DTSTART;TZID=UTC:20251015T103000
DTEND;TZID=UTC:20251015T130000
DTSTAMP:20260424T223213
CREATED:20251008T232206Z
LAST-MODIFIED:20251008T232206Z
UID:26330-1760524200-1760533200@cit-nj.org
SUMMARY:Union County Arrive together meeting at Kean University
DESCRIPTION:🚨 Important CIT Training Notice! 🚨\nTo attend please remember that mandatory invite must be received. \nSimply showing up on the day of the will not get you into the meeting. \n 
URL:https://cit-nj.org/events/union-county-arrive-together-meeting-at-kean-university/
LOCATION:Kean University\, 1000 Morris Ave\, Union\, 07083\, United States
ATTACH;FMTTYPE=image/png:https://cit-nj.org/wp-content/uploads/2025/10/20231107-i8LQ5Jv547.png
END:VEVENT
BEGIN:VEVENT
DTSTART;TZID=UTC:20250512T080000
DTEND;TZID=UTC:20250516T170000
DTSTAMP:20260424T223213
CREATED:20250213T160129Z
LAST-MODIFIED:20250213T160129Z
UID:26244-1747036800-1747414800@cit-nj.org
SUMMARY:Morris County 40hr CIT-NJ Program Class #
DESCRIPTION:
URL:https://cit-nj.org/events/morris-county-40hr-cit-nj-program-class/
ATTACH;FMTTYPE=image/jpeg:https://cit-nj.org/wp-content/uploads/2020/09/14-Morris.jpg
END:VEVENT
BEGIN:VEVENT
DTSTART;TZID=UTC:20250512T080000
DTEND;TZID=UTC:20250516T170000
DTSTAMP:20260424T223213
CREATED:20250213T160043Z
LAST-MODIFIED:20250213T160043Z
UID:26242-1747036800-1747414800@cit-nj.org
SUMMARY:Monmouth County 40hr CIT-NJ Program Class #
DESCRIPTION:
URL:https://cit-nj.org/events/monmouth-county-40hr-cit-nj-program-class/
ATTACH;FMTTYPE=image/jpeg:https://cit-nj.org/wp-content/uploads/2020/09/13-Monmouth.jpg
END:VEVENT
BEGIN:VEVENT
DTSTART;TZID=UTC:20250505T080000
DTEND;TZID=UTC:20250509T170000
DTSTAMP:20260424T223213
CREATED:20250213T155750Z
LAST-MODIFIED:20250213T155750Z
UID:26238-1746432000-1746810000@cit-nj.org
SUMMARY:Cape May County 40hr CIT-NJ Program Class #
DESCRIPTION:
URL:https://cit-nj.org/events/cape-may-county-40hr-cit-nj-program-class/
ATTACH;FMTTYPE=image/jpeg:https://cit-nj.org/wp-content/uploads/2020/09/5-Cape-May.jpg
END:VEVENT
BEGIN:VEVENT
DTSTART;TZID=UTC:20250428T080000
DTEND;TZID=UTC:20250502T170000
DTSTAMP:20260424T223213
CREATED:20250213T155356Z
LAST-MODIFIED:20250213T155356Z
UID:26236-1745827200-1746205200@cit-nj.org
SUMMARY:Atlantic County 40hr CIT-NJ Program Class #356
DESCRIPTION:
URL:https://cit-nj.org/events/atlantic-county-40hr-cit-nj-program-class-356/
ATTACH;FMTTYPE=image/jpeg:https://cit-nj.org/wp-content/uploads/2020/09/1-Atlantic.jpg
END:VEVENT
BEGIN:VEVENT
DTSTART;TZID=UTC:20250415T110000
DTEND;TZID=UTC:20250415T123000
DTSTAMP:20260424T223213
CREATED:20250213T155205Z
LAST-MODIFIED:20250213T155205Z
UID:26234-1744714800-1744720200@cit-nj.org
SUMMARY:NJ-VRT Meeting with PA-Veterans Services and (Camden\, Burlington\, Gloucester) CIT-NJ Team
DESCRIPTION:
URL:https://cit-nj.org/events/nj-vrt-meeting-with-pa-veterans-services-and-camden-burlington-gloucester-cit-nj-team/
ATTACH;FMTTYPE=image/jpeg:https://cit-nj.org/wp-content/uploads/2023/01/vrtnj.jpg
END:VEVENT
BEGIN:VEVENT
DTSTART;TZID=UTC:20250407T080000
DTEND;TZID=UTC:20250411T170000
DTSTAMP:20260424T223213
CREATED:20250213T154907Z
LAST-MODIFIED:20250213T154907Z
UID:26232-1744012800-1744390800@cit-nj.org
SUMMARY:Cumberland County 40hr CIT-NJ Program Class #355
DESCRIPTION:
URL:https://cit-nj.org/events/cumberland-county-40hr-cit-nj-program-class-355/
ATTACH;FMTTYPE=image/jpeg:https://cit-nj.org/wp-content/uploads/2020/09/6-Cumberland.jpg
END:VEVENT
BEGIN:VEVENT
DTSTART;TZID=UTC:20250403T090000
DTEND;TZID=UTC:20250403T170000
DTSTAMP:20260424T223213
CREATED:20250117T100807Z
LAST-MODIFIED:20250117T101330Z
UID:26183-1743670800-1743699600@cit-nj.org
SUMMARY:Bergen County TeleCommunicators CIT-NJ Training 4-3-25
DESCRIPTION:CIT-NJ is offering a 8hr course for Telecommunicators April 3\, 2025 in Bergen County\, NJ. This is approved by CIT staff & the State of NJ 9-1-1 Office of Emergency Telecommunications for 8 CTE’S.\nThe course is an effort to improve collaboration within the CIT-NJ program and build partnerships with police\, mental health\, & family members who’s loved one experiences a mental health crisis. COST is $125\n(We accept purchase orders\, check or cash payments)\nIf paying via purchase order email CIT-NJ Director Edward Dobleman\nedobleman@legacytreatment.org\nThis course will give a Telecommunicators the essential tools and education needed to help a caller in crisis or that may have a mental illness or disability.\nAfter this course you will have a better understanding of how to handle crisis situations and be able to decipher a call and the caller’s needs by knowing the correct questions to ask and how to best communicate with first responders\, and mental health professionals and families/individuals in crisis.\nEXPECTED OUTCOMES OF THIS TRAINING:\n* Introduced to the CIT-NJ Program\n* Learn about State/County resources\n* Gain new active listening skills\n* Recognize a mental health crisis\n* Dispatch the proper resources\n* Learn about mental illness\n* Verbally de-escalate callers\n* Certification and 8 CTE’s\n \nRegister before February 26\, 2025 and\nReceive a free CIT-NJ Bergen County Dispatcher Shirt.\nCLICK HERE TO REGISTER.
URL:https://cit-nj.org/events/bergen-county-telecommunicators-cit-nj-training-4-3-25/
LOCATION:Paramus Life Safety Building\, 1 Carlough Dr.\, Paramus\, NJ\, 07652\, United States
ORGANIZER;CN="CIT-NJ Center of Excellence Program":MAILTO:edobleman@legacytreatment.org
END:VEVENT
BEGIN:VEVENT
DTSTART;TZID=UTC:20250331T080000
DTEND;TZID=UTC:20250404T170000
DTSTAMP:20260424T223213
CREATED:20250213T154038Z
LAST-MODIFIED:20250213T154038Z
UID:26225-1743408000-1743786000@cit-nj.org
SUMMARY:Essex County 40hr CIT-NJ Program Class #354
DESCRIPTION:
URL:https://cit-nj.org/events/essex-county-40hr-cit-nj-program-class-354/
ATTACH;FMTTYPE=image/png:https://cit-nj.org/wp-content/uploads/2020/09/7-Essex.png
END:VEVENT
BEGIN:VEVENT
DTSTART;TZID=UTC:20250325T130000
DTEND;TZID=UTC:20250325T150000
DTSTAMP:20260424T223213
CREATED:20250213T154154Z
LAST-MODIFIED:20250213T154154Z
UID:26227-1742907600-1742914800@cit-nj.org
SUMMARY:Bergen County CIT-NJ Steering Group Meeting
DESCRIPTION:
URL:https://cit-nj.org/events/bergen-county-cit-nj-steering-group-meeting-2/
ATTACH;FMTTYPE=image/jpeg:https://cit-nj.org/wp-content/uploads/2016/03/Steering-Committee-people-putting-puzzle-together-202x186.jpeg
END:VEVENT
BEGIN:VEVENT
DTSTART;TZID=UTC:20250324T080000
DTEND;TZID=UTC:20250328T170000
DTSTAMP:20260424T223213
CREATED:20250213T153951Z
LAST-MODIFIED:20250213T153951Z
UID:26223-1742803200-1743181200@cit-nj.org
SUMMARY:Somerset County 40hr CIT-NJ Program Class #353
DESCRIPTION:
URL:https://cit-nj.org/events/somerset-county-40hr-cit-nj-program-class-353/
ATTACH;FMTTYPE=image/png:https://cit-nj.org/wp-content/uploads/2020/09/18-Somerset.png
END:VEVENT
BEGIN:VEVENT
DTSTART;TZID=UTC:20250317T080000
DTEND;TZID=UTC:20250321T170000
DTSTAMP:20260424T223213
CREATED:20250213T153842Z
LAST-MODIFIED:20250213T153900Z
UID:26221-1742198400-1742576400@cit-nj.org
SUMMARY:Hunterdon County 40hr CIT-NJ Program Class #352
DESCRIPTION:
URL:https://cit-nj.org/events/hunterdon-county-40hr-cit-nj-program-class-352/
ATTACH;FMTTYPE=image/jpeg:https://cit-nj.org/wp-content/uploads/2020/09/10-Hunterdon.jpg
END:VEVENT
BEGIN:VEVENT
DTSTART;TZID=UTC:20250317T080000
DTEND;TZID=UTC:20250321T170000
DTSTAMP:20260424T223213
CREATED:20250213T153733Z
LAST-MODIFIED:20250213T153733Z
UID:26219-1742198400-1742576400@cit-nj.org
SUMMARY:Burlington County 40hr CIT-NJ Program Class #351
DESCRIPTION:
URL:https://cit-nj.org/events/burlington-county-40hr-cit-nj-program-class-351/
ATTACH;FMTTYPE=image/png:https://cit-nj.org/wp-content/uploads/2020/09/3-Burlington.png
END:VEVENT
BEGIN:VEVENT
DTSTART;TZID=UTC:20250317T080000
DTEND;TZID=UTC:20250321T170000
DTSTAMP:20260424T223213
CREATED:20250213T153640Z
LAST-MODIFIED:20250213T153640Z
UID:26217-1742198400-1742576400@cit-nj.org
SUMMARY:Passaic County 40hr CIT-NJ Program Class #350
DESCRIPTION:
URL:https://cit-nj.org/events/passaic-county-40hr-cit-nj-program-class-350/
ATTACH;FMTTYPE=image/jpeg:https://cit-nj.org/wp-content/uploads/2020/09/16-Passaic.jpg
END:VEVENT
BEGIN:VEVENT
DTSTART;TZID=UTC:20250310T080000
DTEND;TZID=UTC:20250314T170000
DTSTAMP:20260424T223213
CREATED:20250213T153552Z
LAST-MODIFIED:20250213T153552Z
UID:26215-1741593600-1741971600@cit-nj.org
SUMMARY:Union County 40hr CIT-NJ Program Class #349
DESCRIPTION:
URL:https://cit-nj.org/events/union-county-40hr-cit-nj-program-class-349/
ATTACH;FMTTYPE=image/jpeg:https://cit-nj.org/wp-content/uploads/2020/09/20-Union.jpg
END:VEVENT
BEGIN:VEVENT
DTSTART;TZID=UTC:20250310T080000
DTEND;TZID=UTC:20250314T170000
DTSTAMP:20260424T223213
CREATED:20250213T153452Z
LAST-MODIFIED:20250213T153452Z
UID:26213-1741593600-1741971600@cit-nj.org
SUMMARY:Morris County 40hr CIT-NJ Program Class #348
DESCRIPTION:
URL:https://cit-nj.org/events/morris-county-40hr-cit-nj-program-class-348/
ATTACH;FMTTYPE=image/jpeg:https://cit-nj.org/wp-content/uploads/2020/09/14-Morris.jpg
END:VEVENT
BEGIN:VEVENT
DTSTART;TZID=UTC:20250310T080000
DTEND;TZID=UTC:20250314T170000
DTSTAMP:20260424T223213
CREATED:20250213T153352Z
LAST-MODIFIED:20250213T153352Z
UID:26211-1741593600-1741971600@cit-nj.org
SUMMARY:Hudson County 40hr CIT-NJ Program Class #347
DESCRIPTION:
URL:https://cit-nj.org/events/hudson-county-40hr-cit-nj-program-class-347/
ATTACH;FMTTYPE=image/jpeg:https://cit-nj.org/wp-content/uploads/2020/09/9-Hudson.jpeg
END:VEVENT
BEGIN:VEVENT
DTSTART;TZID=UTC:20250310T080000
DTEND;TZID=UTC:20250314T170000
DTSTAMP:20260424T223213
CREATED:20250213T153251Z
LAST-MODIFIED:20250213T153251Z
UID:26209-1741593600-1741971600@cit-nj.org
SUMMARY:Atlantic County 40hr CIT-NJ Program Class #346
DESCRIPTION:
URL:https://cit-nj.org/events/atlantic-county-40hr-cit-nj-program-class-346/
ATTACH;FMTTYPE=image/jpeg:https://cit-nj.org/wp-content/uploads/2020/09/1-Atlantic.jpg
END:VEVENT
END:VCALENDAR