BEGIN:VCALENDAR
VERSION:2.0
PRODID:-//CITNJ - ECPv6.15.20//NONSGML v1.0//EN
CALSCALE:GREGORIAN
METHOD:PUBLISH
X-WR-CALNAME:CITNJ
X-ORIGINAL-URL:https://cit-nj.org
X-WR-CALDESC:Events for CITNJ
REFRESH-INTERVAL;VALUE=DURATION:PT1H
X-Robots-Tag:noindex
X-PUBLISHED-TTL:PT1H
BEGIN:VTIMEZONE
TZID:UTC
BEGIN:STANDARD
TZOFFSETFROM:+0000
TZOFFSETTO:+0000
TZNAME:UTC
DTSTART:20250101T000000
END:STANDARD
END:VTIMEZONE
BEGIN:VEVENT
DTSTART;TZID=UTC:20260917T080000
DTEND;TZID=UTC:20260917T170000
DTSTAMP:20260424T204736
CREATED:20260407T195647Z
LAST-MODIFIED:20260407T195943Z
UID:26565-1789632000-1789664400@cit-nj.org
SUMMARY:CIT-NJ TeleCommunicators CIT-NJ Training Burlington County
DESCRIPTION:CIT-NJ is offering a 8hr course for Telecommunicators September 17\, 2026 in Burlington County\, NJ. This is approved by CIT staff & the State of NJ 9-1-1 Office of Emergency Telecommunications for 8 CTE’S.\nThe course is an effort to improve collaboration within the CIT-NJ program and build partnerships with police\, mental health\, & family members who’s loved one experiences a mental health crisis. COST is $100\n(We accept purchase orders\, check or cash payments)\nIf paying via purchase order email CIT-NJ Director Edward Dobleman\nedobleman@legacytreatment.org\nThis course will give a Telecommunicators the essential tools and education needed to help a caller in crisis or that may have a mental illness or disability.\nAfter this course you will have a better understanding of how to handle crisis situations and be able to decipher a call and the caller’s needs by knowing the correct questions to ask and how to best communicate with first responders\, and mental health professionals and families/individuals in crisis.\nEXPECTED OUTCOMES OF THIS TRAINING:\n* Introduced to the CIT-NJ Program\n* Learn about State/County resources\n* Gain new active listening skills\n* Recognize a mental health crisis\n* Dispatch the proper resources\n* Learn about mental illness\n* Verbally de-escalate callers\n* Certification and 8 CTE’s
URL:https://cit-nj.org/events/cit-nj-telecommunicators-cit-nj-training-burlington-county-2/
ATTACH;FMTTYPE=image/png:https://cit-nj.org/wp-content/uploads/2026/04/Burlington-dispatch.png
END:VEVENT
BEGIN:VEVENT
DTSTART;TZID=UTC:20260921T080000
DTEND;TZID=UTC:20260925T163000
DTSTAMP:20260424T204736
CREATED:20260217T032146Z
LAST-MODIFIED:20260217T032331Z
UID:26442-1789977600-1790353800@cit-nj.org
SUMMARY:Salem County 40hr CIT-NJ Program
DESCRIPTION: Important CIT Training Notice! \nTo ensure a smooth registration process and guarantee your spot\, please remember that pre-registration is mandatory for all 40-hour Crisis Intervention Team (CIT) training classes. \nYou must register directly with the individual County Coordinator hosting the training. Spaces are often limited! \nSimply showing up on the day of the class will NOT secure a seat. \nFind your County Coordinator’s contact information on the official CIT-NJ website to register today!
URL:https://cit-nj.org/events/salem-county-40hr-cit-nj-program-3/
ATTACH;FMTTYPE=image/jpeg:https://cit-nj.org/wp-content/uploads/2020/09/17-Salem.jpg
END:VEVENT
BEGIN:VEVENT
DTSTART;TZID=UTC:20260922T080000
DTEND;TZID=UTC:20260922T170000
DTSTAMP:20260424T204736
CREATED:20260407T195858Z
LAST-MODIFIED:20260407T195915Z
UID:26567-1790064000-1790096400@cit-nj.org
SUMMARY:CIT-NJ TeleCommunicators CIT-NJ Training Burlington County
DESCRIPTION:CIT-NJ is offering a 8hr course for Telecommunicators September 22\, 2026 in Burlington County\, NJ. This is approved by CIT staff & the State of NJ 9-1-1 Office of Emergency Telecommunications for 8 CTE’S.\nThe course is an effort to improve collaboration within the CIT-NJ program and build partnerships with police\, mental health\, & family members who’s loved one experiences a mental health crisis. COST is $100\n(We accept purchase orders\, check or cash payments)\nIf paying via purchase order email CIT-NJ Director Edward Dobleman\nedobleman@legacytreatment.org\nThis course will give a Telecommunicators the essential tools and education needed to help a caller in crisis or that may have a mental illness or disability.\nAfter this course you will have a better understanding of how to handle crisis situations and be able to decipher a call and the caller’s needs by knowing the correct questions to ask and how to best communicate with first responders\, and mental health professionals and families/individuals in crisis.\nEXPECTED OUTCOMES OF THIS TRAINING:\n* Introduced to the CIT-NJ Program\n* Learn about State/County resources\n* Gain new active listening skills\n* Recognize a mental health crisis\n* Dispatch the proper resources\n* Learn about mental illness\n* Verbally de-escalate callers\n* Certification and 8 CTE’s
URL:https://cit-nj.org/events/cit-nj-telecommunicators-cit-nj-training-burlington-county-3/
ATTACH;FMTTYPE=image/png:https://cit-nj.org/wp-content/uploads/2026/04/Burlington-dispatch.png
END:VEVENT
BEGIN:VEVENT
DTSTART;TZID=UTC:20260924T080000
DTEND;TZID=UTC:20260924T170000
DTSTAMP:20260424T204736
CREATED:20260407T200055Z
LAST-MODIFIED:20260407T200221Z
UID:26570-1790236800-1790269200@cit-nj.org
SUMMARY:CIT-NJ TeleCommunicators CIT-NJ Training Burlington County
DESCRIPTION:CIT-NJ is offering a 8hr course for Telecommunicators September 24\, 2026 in Burlington County\, NJ. This is approved by CIT staff & the State of NJ 9-1-1 Office of Emergency Telecommunications for 8 CTE’S.\nThe course is an effort to improve collaboration within the CIT-NJ program and build partnerships with police\, mental health\, & family members who’s loved one experiences a mental health crisis. COST is $100\n(We accept purchase orders\, check or cash payments)\nIf paying via purchase order email CIT-NJ Director Edward Dobleman\nedobleman@legacytreatment.org\nThis course will give a Telecommunicators the essential tools and education needed to help a caller in crisis or that may have a mental illness or disability.\nAfter this course you will have a better understanding of how to handle crisis situations and be able to decipher a call and the caller’s needs by knowing the correct questions to ask and how to best communicate with first responders\, and mental health professionals and families/individuals in crisis.\nEXPECTED OUTCOMES OF THIS TRAINING:\n* Introduced to the CIT-NJ Program\n* Learn about State/County resources\n* Gain new active listening skills\n* Recognize a mental health crisis\n* Dispatch the proper resources\n* Learn about mental illness\n* Verbally de-escalate callers\n* Certification and 8 CTE’s
URL:https://cit-nj.org/events/cit-nj-telecommunicators-cit-nj-training-burlington-county-4/
ATTACH;FMTTYPE=image/png:https://cit-nj.org/wp-content/uploads/2026/04/Burlington-dispatch.png
END:VEVENT
BEGIN:VEVENT
DTSTART;TZID=UTC:20260924T130000
DTEND;TZID=UTC:20260924T150000
DTSTAMP:20260424T204736
CREATED:20260217T033102Z
LAST-MODIFIED:20260217T033102Z
UID:26448-1790254800-1790262000@cit-nj.org
SUMMARY:Bergen County CIT-NJ Steering Group Meeting
DESCRIPTION:
URL:https://cit-nj.org/events/bergen-county-cit-nj-steering-group-meeting-3/
ATTACH;FMTTYPE=image/jpeg:https://cit-nj.org/wp-content/uploads/2016/03/Steering-Committee-people-putting-puzzle-together-202x186.jpeg
END:VEVENT
BEGIN:VEVENT
DTSTART;TZID=UTC:20260928T080000
DTEND;TZID=UTC:20261002T163000
DTSTAMP:20260424T204736
CREATED:20260217T032433Z
LAST-MODIFIED:20260217T032433Z
UID:26444-1790582400-1790958600@cit-nj.org
SUMMARY:Burlington County 40hr CIT-NJ Program
DESCRIPTION: Important CIT Training Notice! \nTo ensure a smooth registration process and guarantee your spot\, please remember that pre-registration is mandatory for all 40-hour Crisis Intervention Team (CIT) training classes. \nYou must register directly with the individual County Coordinator hosting the training. Spaces are often limited! \nSimply showing up on the day of the class will NOT secure a seat. \nFind your County Coordinator’s contact information on the official CIT-NJ website to register today!
URL:https://cit-nj.org/events/burlington-county-40hr-cit-nj-program-6/
ATTACH;FMTTYPE=image/jpeg:https://cit-nj.org/wp-content/uploads/2022/06/Burlington-New-County-logo.jpg
END:VEVENT
BEGIN:VEVENT
DTSTART;TZID=UTC:20260928T080000
DTEND;TZID=UTC:20261002T163000
DTSTAMP:20260424T204736
CREATED:20260217T032523Z
LAST-MODIFIED:20260217T032751Z
UID:26446-1790582400-1790958600@cit-nj.org
SUMMARY:Warren County 40hr CIT-NJ Program
DESCRIPTION: Important CIT Training Notice! \nTo ensure a smooth registration process and guarantee your spot\, please remember that pre-registration is mandatory for all 40-hour Crisis Intervention Team (CIT) training classes. \nYou must register directly with the individual County Coordinator hosting the training. Spaces are often limited! \nSimply showing up on the day of the class will NOT secure a seat. \nFind your County Coordinator’s contact information on the official CIT-NJ website to register today!
URL:https://cit-nj.org/events/warren-county-40hr-cit-nj-program-4/
ATTACH;FMTTYPE=image/jpeg:https://cit-nj.org/wp-content/uploads/2020/09/21-Warren.jpg
END:VEVENT
BEGIN:VEVENT
DTSTART;TZID=UTC:20260929T080000
DTEND;TZID=UTC:20260929T170000
DTSTAMP:20260424T204736
CREATED:20260407T200407Z
LAST-MODIFIED:20260407T200407Z
UID:26572-1790668800-1790701200@cit-nj.org
SUMMARY:CIT-NJ TeleCommunicators CIT-NJ Training Burlington County
DESCRIPTION:CIT-NJ is offering a 8hr course for Telecommunicators September 29\, 2026 in Burlington County\, NJ. This is approved by CIT staff & the State of NJ 9-1-1 Office of Emergency Telecommunications for 8 CTE’S.\nThe course is an effort to improve collaboration within the CIT-NJ program and build partnerships with police\, mental health\, & family members who’s loved one experiences a mental health crisis. COST is $100\n(We accept purchase orders\, check or cash payments)\nIf paying via purchase order email CIT-NJ Director Edward Dobleman\nedobleman@legacytreatment.org\nThis course will give a Telecommunicators the essential tools and education needed to help a caller in crisis or that may have a mental illness or disability.\nAfter this course you will have a better understanding of how to handle crisis situations and be able to decipher a call and the caller’s needs by knowing the correct questions to ask and how to best communicate with first responders\, and mental health professionals and families/individuals in crisis.\nEXPECTED OUTCOMES OF THIS TRAINING:\n* Introduced to the CIT-NJ Program\n* Learn about State/County resources\n* Gain new active listening skills\n* Recognize a mental health crisis\n* Dispatch the proper resources\n* Learn about mental illness\n* Verbally de-escalate callers\n* Certification and 8 CTE’s
URL:https://cit-nj.org/events/cit-nj-telecommunicators-cit-nj-training-burlington-county-5/
ATTACH;FMTTYPE=image/png:https://cit-nj.org/wp-content/uploads/2026/04/Burlington-dispatch.png
END:VEVENT
BEGIN:VEVENT
DTSTART;TZID=UTC:20261001T080000
DTEND;TZID=UTC:20261001T170000
DTSTAMP:20260424T204736
CREATED:20260407T200541Z
LAST-MODIFIED:20260407T200541Z
UID:26574-1790841600-1790874000@cit-nj.org
SUMMARY:CIT-NJ TeleCommunicators CIT-NJ Training Burlington County
DESCRIPTION:CIT-NJ is offering a 8hr course for Telecommunicators October 1\, 2026 in Burlington County\, NJ. This is approved by CIT staff & the State of NJ 9-1-1 Office of Emergency Telecommunications for 8 CTE’S.\nThe course is an effort to improve collaboration within the CIT-NJ program and build partnerships with police\, mental health\, & family members who’s loved one experiences a mental health crisis. COST is $100\n(We accept purchase orders\, check or cash payments)\nIf paying via purchase order email CIT-NJ Director Edward Dobleman\nedobleman@legacytreatment.org\nThis course will give a Telecommunicators the essential tools and education needed to help a caller in crisis or that may have a mental illness or disability.\nAfter this course you will have a better understanding of how to handle crisis situations and be able to decipher a call and the caller’s needs by knowing the correct questions to ask and how to best communicate with first responders\, and mental health professionals and families/individuals in crisis.\nEXPECTED OUTCOMES OF THIS TRAINING:\n* Introduced to the CIT-NJ Program\n* Learn about State/County resources\n* Gain new active listening skills\n* Recognize a mental health crisis\n* Dispatch the proper resources\n* Learn about mental illness\n* Verbally de-escalate callers\n* Certification and 8 CTE’s
URL:https://cit-nj.org/events/cit-nj-telecommunicators-cit-nj-training-burlington-county-6/
ATTACH;FMTTYPE=image/png:https://cit-nj.org/wp-content/uploads/2026/04/Burlington-dispatch.png
END:VEVENT
BEGIN:VEVENT
DTSTART;TZID=UTC:20261005T080000
DTEND;TZID=UTC:20261009T163000
DTSTAMP:20260424T204736
CREATED:20260217T033659Z
LAST-MODIFIED:20260407T200727Z
UID:26455-1791187200-1791563400@cit-nj.org
SUMMARY:Hunterdon County 40hr CIT-NJ Program
DESCRIPTION: Important CIT Training Notice! \nTo ensure a smooth registration process and guarantee your spot\, please remember that pre-registration is mandatory for all 40-hour Crisis Intervention Team (CIT) training classes. \nYou must register directly with the individual County Coordinator hosting the training. Spaces are often limited! \nSimply showing up on the day of the class will NOT secure a seat. \nFind your County Coordinator’s contact information on the official CIT-NJ website to register today!
URL:https://cit-nj.org/events/hunterdon-county-40hr-cit-nj-program-5/
ATTACH;FMTTYPE=image/jpeg:https://cit-nj.org/wp-content/uploads/2020/09/10-Hunterdon.jpg
END:VEVENT
BEGIN:VEVENT
DTSTART;TZID=UTC:20261005T080000
DTEND;TZID=UTC:20261009T163000
DTSTAMP:20260424T204736
CREATED:20260307T051906Z
LAST-MODIFIED:20260307T052015Z
UID:26544-1791187200-1791563400@cit-nj.org
SUMMARY:Union County 40hr CIT-NJ Program
DESCRIPTION: Important CIT Training Notice! \nTo ensure a smooth registration process and guarantee your spot\, please remember that pre-registration is mandatory for all 40-hour Crisis Intervention Team New Jersey (CIT-NJ) training classes. \nYou must register directly with the individual County Coordinator hosting the training. Spaces are often limited! \nSimply showing up on the day of the class will NOT secure your seat. \nFind your County Coordinator’s contact information on the official CIT-NJ website to register today!
URL:https://cit-nj.org/events/union-county-40hr-cit-nj-program-7/
LOCATION:John H Stamler Police Academy\, 1776 Raritan Rd \, Scotch Plains\, NJ\, 07076\, United States
ATTACH;FMTTYPE=image/jpeg:https://cit-nj.org/wp-content/uploads/2020/09/20-Union.jpg
END:VEVENT
BEGIN:VEVENT
DTSTART;TZID=UTC:20261013T080000
DTEND;TZID=UTC:20261014T170000
DTSTAMP:20260424T204736
CREATED:20260407T202912Z
LAST-MODIFIED:20260407T203522Z
UID:26576-1791878400-1791997200@cit-nj.org
SUMMARY:NJ-VRT Training Program
DESCRIPTION:CIT-NJ 2-Day NJ-VRT Training October 13 & 14 2026\n\n\n\n\n\n\n\nThis training is designed to equip first responders\, & co-responders\, with the knowledge & skills necessary to effectively handle interactions with veterans who may be experiencing mental health crises or other challenges. \nThis Training incorporates elements of:\nUnderstanding Veteran Experiences\nCrisis Intervention Techniques\nMental Health Awareness\nResource Connections \nThe goal of NJ-VRT training is to:\nReduce negative interactions between veterans & first responders.\nIncrease the understanding and compassion shown towards veterans.\nImprove the outcomes for veterans experiencing crises. \nCLICK HERE TO REGISTER. \n 
URL:https://cit-nj.org/events/nj-vrt-training-program-2/
LOCATION:Paramus Life Safety Building\, 1 Carlough Dr.\, Paramus\, NJ\, 07652\, United States
ATTACH;FMTTYPE=image/jpeg:https://cit-nj.org/wp-content/uploads/2024/07/vrt-scaled.jpg
ORGANIZER;CN="CIT-NJ Center of Excellence Program":MAILTO:edobleman@legacytreatment.org
END:VEVENT
BEGIN:VEVENT
DTSTART;TZID=UTC:20261019T080000
DTEND;TZID=UTC:20261023T163000
DTSTAMP:20260424T204736
CREATED:20260217T033450Z
LAST-MODIFIED:20260217T033450Z
UID:26451-1792396800-1792773000@cit-nj.org
SUMMARY:Hudson County 40hr CIT-NJ Program
DESCRIPTION: Important CIT Training Notice! \nTo ensure a smooth registration process and guarantee your spot\, please remember that pre-registration is mandatory for all 40-hour Crisis Intervention Team (CIT) training classes. \nYou must register directly with the individual County Coordinator hosting the training. Spaces are often limited! \nSimply showing up on the day of the class will NOT secure a seat. \nFind your County Coordinator’s contact information on the official CIT-NJ website to register today!
URL:https://cit-nj.org/events/hudson-county-40hr-cit-nj-program-5/
ATTACH;FMTTYPE=image/jpeg:https://cit-nj.org/wp-content/uploads/2020/09/9-Hudson.jpeg
END:VEVENT
BEGIN:VEVENT
DTSTART;TZID=UTC:20261019T080000
DTEND;TZID=UTC:20261023T163000
DTSTAMP:20260424T204736
CREATED:20260217T033555Z
LAST-MODIFIED:20260217T033555Z
UID:26453-1792396800-1792773000@cit-nj.org
SUMMARY:Cape May County 40hr CIT-NJ Program
DESCRIPTION: Important CIT Training Notice! \nTo ensure a smooth registration process and guarantee your spot\, please remember that pre-registration is mandatory for all 40-hour Crisis Intervention Team (CIT) training classes. \nYou must register directly with the individual County Coordinator hosting the training. Spaces are often limited! \nSimply showing up on the day of the class will NOT secure a seat. \nFind your County Coordinator’s contact information on the official CIT-NJ website to register today!
URL:https://cit-nj.org/events/cape-may-county-40hr-cit-nj-program-5/
ATTACH;FMTTYPE=image/jpeg:https://cit-nj.org/wp-content/uploads/2020/09/5-Cape-May.jpg
END:VEVENT
BEGIN:VEVENT
DTSTART;TZID=UTC:20261019T080000
DTEND;TZID=UTC:20261023T163000
DTSTAMP:20260424T204736
CREATED:20260217T033801Z
LAST-MODIFIED:20260217T033801Z
UID:26457-1792396800-1792773000@cit-nj.org
SUMMARY:Atlantic County 40hr CIT-NJ Program
DESCRIPTION: Important CIT Training Notice! \nTo ensure a smooth registration process and guarantee your spot\, please remember that pre-registration is mandatory for all 40-hour Crisis Intervention Team (CIT) training classes. \nYou must register directly with the individual County Coordinator hosting the training. Spaces are often limited! \nSimply showing up on the day of the class will NOT secure a seat. \nFind your County Coordinator’s contact information on the official CIT-NJ website to register today!
URL:https://cit-nj.org/events/atlantic-county-40hr-cit-nj-program-6/
ATTACH;FMTTYPE=image/jpeg:https://cit-nj.org/wp-content/uploads/2020/09/1-Atlantic.jpg
END:VEVENT
BEGIN:VEVENT
DTSTART;TZID=UTC:20261019T080000
DTEND;TZID=UTC:20261023T163000
DTSTAMP:20260424T204736
CREATED:20260217T033914Z
LAST-MODIFIED:20260217T033914Z
UID:26459-1792396800-1792773000@cit-nj.org
SUMMARY:Passaic County 40hr CIT-NJ Program
DESCRIPTION: Important CIT Training Notice! \nTo ensure a smooth registration process and guarantee your spot\, please remember that pre-registration is mandatory for all 40-hour Crisis Intervention Team (CIT) training classes. \nYou must register directly with the individual County Coordinator hosting the training. Spaces are often limited! \nSimply showing up on the day of the class will NOT secure a seat. \nFind your County Coordinator’s contact information on the official CIT-NJ website to register today!
URL:https://cit-nj.org/events/passaic-county-40hr-cit-nj-program-4/
ATTACH;FMTTYPE=image/jpeg:https://cit-nj.org/wp-content/uploads/2020/09/16-Passaic.jpg
END:VEVENT
BEGIN:VEVENT
DTSTART;TZID=UTC:20261026T080000
DTEND;TZID=UTC:20261030T163000
DTSTAMP:20260424T204736
CREATED:20260217T034034Z
LAST-MODIFIED:20260217T034034Z
UID:26461-1793001600-1793377800@cit-nj.org
SUMMARY:Somerset County 40hr CIT-NJ Program
DESCRIPTION: Important CIT Training Notice! \nTo ensure a smooth registration process and guarantee your spot\, please remember that pre-registration is mandatory for all 40-hour Crisis Intervention Team (CIT) training classes. \nYou must register directly with the individual County Coordinator hosting the training. Spaces are often limited! \nSimply showing up on the day of the class will NOT secure a seat. \nFind your County Coordinator’s contact information on the official CIT-NJ website to register today!
URL:https://cit-nj.org/events/somerset-county-40hr-cit-nj-program-5/
ATTACH;FMTTYPE=image/png:https://cit-nj.org/wp-content/uploads/2020/09/18-Somerset.png
END:VEVENT
BEGIN:VEVENT
DTSTART;TZID=UTC:20261026T080000
DTEND;TZID=UTC:20261030T163000
DTSTAMP:20260424T204736
CREATED:20260217T034131Z
LAST-MODIFIED:20260217T034131Z
UID:26463-1793001600-1793377800@cit-nj.org
SUMMARY:Essex County 40hr CIT-NJ Program
DESCRIPTION: Important CIT Training Notice! \nTo ensure a smooth registration process and guarantee your spot\, please remember that pre-registration is mandatory for all 40-hour Crisis Intervention Team (CIT) training classes. \nYou must register directly with the individual County Coordinator hosting the training. Spaces are often limited! \nSimply showing up on the day of the class will NOT secure a seat. \nFind your County Coordinator’s contact information on the official CIT-NJ website to register today!
URL:https://cit-nj.org/events/essex-county-40hr-cit-nj-program-7/
ATTACH;FMTTYPE=image/png:https://cit-nj.org/wp-content/uploads/2020/09/7-Essex.png
END:VEVENT
BEGIN:VEVENT
DTSTART;TZID=UTC:20261116T080000
DTEND;TZID=UTC:20261120T163000
DTSTAMP:20260424T204736
CREATED:20260217T034259Z
LAST-MODIFIED:20260217T034259Z
UID:26465-1794816000-1795192200@cit-nj.org
SUMMARY:Cumberland County 40hr CIT-NJ Program
DESCRIPTION: Important CIT Training Notice! \nTo ensure a smooth registration process and guarantee your spot\, please remember that pre-registration is mandatory for all 40-hour Crisis Intervention Team (CIT) training classes. \nYou must register directly with the individual County Coordinator hosting the training. Spaces are often limited! \nSimply showing up on the day of the class will NOT secure a seat. \nFind your County Coordinator’s contact information on the official CIT-NJ website to register today!
URL:https://cit-nj.org/events/cumberland-county-40hr-cit-nj-program-4/
ATTACH;FMTTYPE=image/png:https://cit-nj.org/wp-content/uploads/2025/10/cumberland.png
END:VEVENT
BEGIN:VEVENT
DTSTART;TZID=UTC:20261207T080000
DTEND;TZID=UTC:20261211T163000
DTSTAMP:20260424T204736
CREATED:20260217T034413Z
LAST-MODIFIED:20260217T034413Z
UID:26467-1796630400-1797006600@cit-nj.org
SUMMARY:Morris County 40hr CIT-NJ Program
DESCRIPTION: Important CIT Training Notice! \nTo ensure a smooth registration process and guarantee your spot\, please remember that pre-registration is mandatory for all 40-hour Crisis Intervention Team (CIT) training classes. \nYou must register directly with the individual County Coordinator hosting the training. Spaces are often limited! \nSimply showing up on the day of the class will NOT secure a seat. \nFind your County Coordinator’s contact information on the official CIT-NJ website to register today!
URL:https://cit-nj.org/events/morris-county-40hr-cit-nj-program-11/
ATTACH;FMTTYPE=image/jpeg:https://cit-nj.org/wp-content/uploads/2020/09/14-Morris.jpg
END:VEVENT
BEGIN:VEVENT
DTSTART;TZID=UTC:20261207T080000
DTEND;TZID=UTC:20261211T163000
DTSTAMP:20260424T204736
CREATED:20260217T034515Z
LAST-MODIFIED:20260217T034515Z
UID:26469-1796630400-1797006600@cit-nj.org
SUMMARY:Bergen County 40hr CIT-NJ Program
DESCRIPTION: Important CIT Training Notice! \nTo ensure a smooth registration process and guarantee your spot\, please remember that pre-registration is mandatory for all 40-hour Crisis Intervention Team (CIT) training classes. \nYou must register directly with the individual County Coordinator hosting the training. Spaces are often limited! \nSimply showing up on the day of the class will NOT secure a seat. \nFind your County Coordinator’s contact information on the official CIT-NJ website to register today!
URL:https://cit-nj.org/events/bergen-county-40hr-cit-nj-program-9/
ATTACH;FMTTYPE=image/jpeg:https://cit-nj.org/wp-content/uploads/2020/09/2-Bergen.jpg
END:VEVENT
END:VCALENDAR