BEGIN:VCALENDAR
VERSION:2.0
PRODID:-//CITNJ - ECPv6.15.20//NONSGML v1.0//EN
CALSCALE:GREGORIAN
METHOD:PUBLISH
X-ORIGINAL-URL:https://cit-nj.org
X-WR-CALDESC:Events for CITNJ
REFRESH-INTERVAL;VALUE=DURATION:PT1H
X-Robots-Tag:noindex
X-PUBLISHED-TTL:PT1H
BEGIN:VTIMEZONE
TZID:UTC
BEGIN:STANDARD
TZOFFSETFROM:+0000
TZOFFSETTO:+0000
TZNAME:UTC
DTSTART:20240101T000000
END:STANDARD
END:VTIMEZONE
BEGIN:VEVENT
DTSTART;TZID=UTC:20260316T080000
DTEND;TZID=UTC:20260320T163000
DTSTAMP:20260424T190645
CREATED:20260217T010144Z
LAST-MODIFIED:20260217T010222Z
UID:26370-1773648000-1774024200@cit-nj.org
SUMMARY:Hudson County 40hr CIT-NJ Program
DESCRIPTION:To ensure a smooth registration process and guarantee your spot\, please remember that pre-registration is mandatory for all 40-hour Crisis Intervention Team (CIT) training classes. \nYou must register directly with the individual County Coordinator hosting the training. Spaces are often limited! \nSimply showing up on the day of the class will NOT secure a seat. \nFind your County Coordinator’s contact information on the official CIT-NJ website to register today!
URL:https://cit-nj.org/events/hudson-county-40hr-cit-nj-program-3/
ATTACH;FMTTYPE=image/jpeg:https://cit-nj.org/wp-content/uploads/2020/09/9-Hudson.jpeg
END:VEVENT
BEGIN:VEVENT
DTSTART;TZID=UTC:20260312T130000
DTEND;TZID=UTC:20260312T140000
DTSTAMP:20260424T190645
CREATED:20260217T050002Z
LAST-MODIFIED:20260217T050002Z
UID:26486-1773320400-1773324000@cit-nj.org
SUMMARY:Bergen County CIT-NJ Steering Group Meeting
DESCRIPTION:
URL:https://cit-nj.org/events/bergen-county-cit-nj-steering-group-meeting-4/
ATTACH;FMTTYPE=image/jpeg:https://cit-nj.org/wp-content/uploads/2016/03/Steering-Committee-people-putting-puzzle-together-202x186.jpeg
END:VEVENT
BEGIN:VEVENT
DTSTART;TZID=UTC:20260311T080000
DTEND;TZID=UTC:20260311T160000
DTSTAMP:20260424T190645
CREATED:20260302T013643Z
LAST-MODIFIED:20260302T013758Z
UID:26518-1773216000-1773244800@cit-nj.org
SUMMARY:CIT-NJ  practical American Sign Language (ASL) class.
DESCRIPTION:CIT-NJ Partners for Officer Communication & Community Safety\n\nCIT-NJ is proud to collaborate with the Essex County Prosecutor’s Office and the Newark Public Library to offer a specialized one-day training for law enforcement professionals.\nThis hands-on training will equip officers with practical American Sign Language (ASL) skills to effectively communicate with individuals who are deaf or hard of hearing.\nClear communication in the field enhances officer safety\, supports de-escalation\, and strengthens community trust.\n March 11\, 2026\n 8:00 AM – 4:00 PM\n Newark Public Library\n5 Washington Street\, Newark\, NJ\nJoin us for a full day of real-world scenarios\, practical signing techniques\, and tools officers can immediately apply in the field.\n Register today:\nhttps://docs.google.com/…/1FAIpQLSfBybJvEOZ…/viewform…\n\nSeats are limited. We look forward to seeing you there.
URL:https://cit-nj.org/events/cit-nj-practical-american-sign-language-asl-class/
LOCATION:The Newark Public Library\, 5 Washington Street\, Newark\, NJ\, 07102\, United States
ATTACH;FMTTYPE=image/jpeg:https://cit-nj.org/wp-content/uploads/2026/03/ASL.jpg
END:VEVENT
BEGIN:VEVENT
DTSTART;TZID=UTC:20260309T080000
DTEND;TZID=UTC:20260313T163000
DTSTAMP:20260424T190645
CREATED:20260307T051400Z
LAST-MODIFIED:20260307T051544Z
UID:26540-1773043200-1773419400@cit-nj.org
SUMMARY:Union County 40hr CIT-NJ Program
DESCRIPTION: Important CIT Training Notice! \nTo ensure a smooth registration process and guarantee your spot\, please remember that pre-registration is mandatory for all 40-hour Crisis Intervention Team New Jersey (CIT-NJ) training classes. \nYou must register directly with the individual County Coordinator hosting the training. Spaces are often limited! \nSimply showing up on the day of the class will NOT secure your seat. \nFind your County Coordinator’s contact information on the official CIT-NJ website to register today!
URL:https://cit-nj.org/events/union-county-40hr-cit-nj-program-5/
LOCATION:John H Stamler Police Academy\, 1776 Raritan Rd \, Scotch Plains\, NJ\, 07076\, United States
ATTACH;FMTTYPE=image/jpeg:https://cit-nj.org/wp-content/uploads/2020/09/20-Union.jpg
END:VEVENT
BEGIN:VEVENT
DTSTART;TZID=UTC:20260309T080000
DTEND;TZID=UTC:20260313T163000
DTSTAMP:20260424T190645
CREATED:20260217T005813Z
LAST-MODIFIED:20260217T005813Z
UID:26366-1773043200-1773419400@cit-nj.org
SUMMARY:Gloucester County 40hr CIT-NJ Program
DESCRIPTION: Important CIT Training Notice! \nTo ensure a smooth registration process and guarantee your spot\, please remember that pre-registration is mandatory for all 40-hour Crisis Intervention Team (CIT) training classes. \nYou must register directly with the individual County Coordinator hosting the training. Spaces are often limited! \nSimply showing up on the day of the class will NOT secure a seat. \nFind your County Coordinator’s contact information on the official CIT-NJ website to register today!
URL:https://cit-nj.org/events/gloucester-county-40hr-cit-nj-program-2/
ATTACH;FMTTYPE=image/jpeg:https://cit-nj.org/wp-content/uploads/2020/09/8-Gloucester.jpg
ORGANIZER;CN="CIT-NJ Center of Excellence Program":MAILTO:edobleman@legacytreatment.org
END:VEVENT
BEGIN:VEVENT
DTSTART;TZID=UTC:20260309T080000
DTEND;TZID=UTC:20260313T163000
DTSTAMP:20260424T190645
CREATED:20260217T005512Z
LAST-MODIFIED:20260217T005512Z
UID:26364-1773043200-1773419400@cit-nj.org
SUMMARY:Mercer County 40hr CIT-NJ Program
DESCRIPTION: Important CIT Training Notice! \nTo ensure a smooth registration process and guarantee your spot\, please remember that pre-registration is mandatory for all 40-hour Crisis Intervention Team New Jersey (CIT-NJ) training classes. \nYou must register directly with the individual County Coordinator hosting the training. Spaces are often limited! \nSimply showing up on the day of the class will NOT secure your seat. \nFind your County Coordinator’s contact information on the official CIT-NJ website to register today!
URL:https://cit-nj.org/events/mercer-county-40hr-cit-nj-program-3/
CATEGORIES:Mercer County
ATTACH;FMTTYPE=image/png:https://cit-nj.org/wp-content/uploads/2020/09/11-Mercer.png
ORGANIZER;CN="CIT-NJ Center of Excellence Program":MAILTO:edobleman@legacytreatment.org
END:VEVENT
BEGIN:VEVENT
DTSTART;TZID=UTC:20260302T080000
DTEND;TZID=UTC:20260306T163000
DTSTAMP:20260424T190645
CREATED:20260225T145256Z
LAST-MODIFIED:20260225T145256Z
UID:26516-1772438400-1772814600@cit-nj.org
SUMMARY:Essex County 40hr CIT-NJ Program
DESCRIPTION: Important CIT Training Notice! \nTo ensure a smooth registration process and guarantee your spot\, please remember that pre-registration is mandatory for all 40-hour Crisis Intervention Team (CIT) training classes. \nYou must register directly with the individual County Coordinator hosting the training. Spaces are often limited! \nSimply showing up on the day of the class will NOT secure a seat. \nFind your County Coordinator’s contact information on the official CIT-NJ website to register today!
URL:https://cit-nj.org/events/essex-county-40hr-cit-nj-program-8/
ATTACH;FMTTYPE=image/png:https://cit-nj.org/wp-content/uploads/2020/09/7-Essex.png
END:VEVENT
BEGIN:VEVENT
DTSTART;TZID=UTC:20260302T080000
DTEND;TZID=UTC:20260306T163000
DTSTAMP:20260424T190645
CREATED:20260216T231538Z
LAST-MODIFIED:20260217T005200Z
UID:26328-1772438400-1772814600@cit-nj.org
SUMMARY:Bergen County 40hr CIT-NJ Program
DESCRIPTION:🚨 Important CIT Training Notice! 🚨\nTo ensure a smooth registration process and guarantee your spot\, please remember that pre-registration is mandatory for all 40-hour Crisis Intervention Team New Jersey (CIT-NJ) training classes. \nYou must register directly with the individual County Coordinator hosting the training. Spaces are often limited! \nSimply showing up on the day of the class will NOT secure your seat. \nFind your County Coordinator’s contact information on the official CIT-NJ website to register today!
URL:https://cit-nj.org/events/morris-county-40hr-cit-nj-program-7/
LOCATION:Bergen County Law and Public Safety Institute\, 281 Campgaw Rd\, Mahwah\, NJ\,  07430\, United States
CATEGORIES:Bergen County CIT
ATTACH;FMTTYPE=image/jpeg:https://cit-nj.org/wp-content/uploads/2020/09/2-Bergen.jpg
ORGANIZER;CN="CIT-NJ Center of Excellence Program":MAILTO:edobleman@legacytreatment.org
END:VEVENT
BEGIN:VEVENT
DTSTART;TZID=UTC:20260302T080000
DTEND;TZID=UTC:20260306T163000
DTSTAMP:20260424T190645
CREATED:20260216T224119Z
LAST-MODIFIED:20260217T005221Z
UID:26300-1772438400-1772814600@cit-nj.org
SUMMARY:Camden County 40hr CIT-NJ Program
DESCRIPTION:🚨 Important CIT Training Notice! 🚨\nTo ensure a smooth registration process and guarantee your spot\, please remember that pre-registration is mandatory for all 40-hour Crisis Intervention Team (CIT) training classes. \nYou must register directly with the individual County Coordinator hosting the training. Spaces are often limited! \nSimply showing up on the day of the class will NOT secure a seat. \nFind your County Coordinator’s contact information on the official CIT-NJ website to register today!
URL:https://cit-nj.org/events/camden-county-40hr-cit-nj-program-3/
LOCATION:Camden County College Regional Emergency Training Center\, 420 Woodbury / Turnersville Road\, Blackwood\, NJ\, 08012\, United States
ATTACH;FMTTYPE=image/jpeg:https://cit-nj.org/wp-content/uploads/2020/09/4-Camden.jpg
ORGANIZER;CN="CIT-NJ Center of Excellence Program":MAILTO:edobleman@legacytreatment.org
END:VEVENT
BEGIN:VEVENT
DTSTART;TZID=UTC:20260227T080000
DTEND;TZID=UTC:20260227T163000
DTSTAMP:20260424T190645
CREATED:20260217T014533Z
LAST-MODIFIED:20260217T014533Z
UID:26396-1772179200-1772209800@cit-nj.org
SUMMARY:CIT-NJ TeleCommunicators 1-Day Training
DESCRIPTION:CIT-NJ is offering a 8hr course for Telecommunicators February 27\, 2026 in Cumberland County\, NJ. This is approved by CIT staff & the State of NJ 9-1-1 Office of Emergency Telecommunications for 8 CTE’S.\nThe course is an effort to improve collaboration within the CIT-NJ program and build partnerships with police\, mental health\, & family members who’s loved one experiences a mental health crisis. COST is $100\n(We accept purchase orders\, check or cash payments)\nIf paying via purchase order email CIT-NJ Director Edward Dobleman\nedobleman@legacytreatment.org\nThis course will give a Telecommunicators the essential tools and education needed to help a caller in crisis or that may have a mental illness or disability.\nAfter this course you will have a better understanding of how to handle crisis situations and be able to decipher a call and the caller’s needs by knowing the correct questions to ask and how to best communicate with first responders\, and mental health professionals and families/individuals in crisis.\nEXPECTED OUTCOMES OF THIS TRAINING:\n* Introduced to the CIT-NJ Program\n* Learn about State/County resources\n* Gain new active listening skills\n* Recognize a mental health crisis\n* Dispatch the proper resources\n* Learn about mental illness\n* Verbally de-escalate callers\n* Certification and 8 CTE’s
URL:https://cit-nj.org/events/cit-nj-telecommunicators-1-day-training/
ATTACH;FMTTYPE=image/png:https://cit-nj.org/wp-content/uploads/2025/10/dispat.png
END:VEVENT
BEGIN:VEVENT
DTSTART;TZID=UTC:20260225T080000
DTEND;TZID=UTC:20260226T163000
DTSTAMP:20260424T190645
CREATED:20260217T045747Z
LAST-MODIFIED:20260217T045747Z
UID:26483-1772006400-1772123400@cit-nj.org
SUMMARY:Essex County CIT-NJ Refresher Training
DESCRIPTION:
URL:https://cit-nj.org/events/essex-county-cit-nj-refresher-training/
ATTACH;FMTTYPE=image/jpeg:https://cit-nj.org/wp-content/uploads/2026/02/refresher.jpg
END:VEVENT
BEGIN:VEVENT
DTSTART;TZID=UTC:20260223T080000
DTEND;TZID=UTC:20260227T163000
DTSTAMP:20260424T190645
CREATED:20260217T011058Z
LAST-MODIFIED:20260217T011058Z
UID:26380-1771833600-1772209800@cit-nj.org
SUMMARY:Warren County 40hr CIT-NJ Program
DESCRIPTION: Important CIT Training Notice! \nTo ensure a smooth registration process and guarantee your spot\, please remember that pre-registration is mandatory for all 40-hour Crisis Intervention Team (CIT) training classes. \nYou must register directly with the individual County Coordinator hosting the training. Spaces are often limited! \nSimply showing up on the day of the class will NOT secure a seat. \nFind your County Coordinator’s contact information on the official CIT-NJ website to register today!
URL:https://cit-nj.org/events/warren-county-40hr-cit-nj-program-3/
ATTACH;FMTTYPE=image/jpeg:https://cit-nj.org/wp-content/uploads/2020/09/21-Warren.jpg
END:VEVENT
BEGIN:VEVENT
DTSTART;TZID=UTC:20260218T100000
DTEND;TZID=UTC:20260218T230000
DTSTAMP:20260424T190645
CREATED:20260217T045407Z
LAST-MODIFIED:20260217T045407Z
UID:26481-1771408800-1771455600@cit-nj.org
SUMMARY:Camden County CIT-NJ Steering Group Meeting
DESCRIPTION:
URL:https://cit-nj.org/events/camden-county-cit-nj-steering-group-meeting-4/
LOCATION:Volunteers of America Delaware Valley Collingswood Office\, 235 White Horse Pike\, Collingswood\, NJ\, 08107\, United States
ATTACH;FMTTYPE=image/jpeg:https://cit-nj.org/wp-content/uploads/2016/03/Steering-Committee-people-putting-puzzle-together-202x186.jpeg
END:VEVENT
BEGIN:VEVENT
DTSTART;VALUE=DATE:20260217
DTEND;VALUE=DATE:20260218
DTSTAMP:20260424T190645
CREATED:20260217T044740Z
LAST-MODIFIED:20260217T044758Z
UID:26477-1771286400-1771372799@cit-nj.org
SUMMARY:Ramadan Mubarak 2026
DESCRIPTION:As the crescent moon marks the beginning of the holy month\, CIT-NJ wishes a blessed and peaceful Ramadan to our Muslim neighbors\, partners\, and first responders across New Jersey. \n\n\n\n​Ramadan is a time for reflection\, gratitude\, and community. At CIT-NJ\, we remain committed to ensuring that every member of our community feels supported and understood. Whether through our 40-hour certification trainings or our daily interactions\, our goal is a safer\, more compassionate NJ for everyone.\n\n\n\n​To those observing: May your fast be easy\, your prayers be answered\, and your month be filled with spirit and health.
URL:https://cit-nj.org/events/ramadan-mubarak-2026-2/
ATTACH;FMTTYPE=image/jpeg:https://cit-nj.org/wp-content/uploads/2026/02/ramadan.jpg
END:VEVENT
BEGIN:VEVENT
DTSTART;VALUE=DATE:20260216
DTEND;VALUE=DATE:20260217
DTSTAMP:20260424T190645
CREATED:20260217T043417Z
LAST-MODIFIED:20260217T045100Z
UID:26471-1771200000-1771286399@cit-nj.org
SUMMARY:President's Day
DESCRIPTION:
URL:https://cit-nj.org/events/presidents-day/
ATTACH;FMTTYPE=image/jpeg:https://cit-nj.org/wp-content/uploads/2026/02/636785324_935280675508372_128100179292350484_n.jpg
END:VEVENT
BEGIN:VEVENT
DTSTART;TZID=UTC:20251201T080000
DTEND;TZID=UTC:20251205T170000
DTSTAMP:20260424T190645
CREATED:20251008T231338Z
LAST-MODIFIED:20251008T231338Z
UID:26326-1764576000-1764954000@cit-nj.org
SUMMARY:Bergen County 40hr CIT-NJ Program
DESCRIPTION:🚨 Important CIT Training Notice! 🚨\nTo ensure a smooth registration process and guarantee your spot\, please remember that pre-registration is mandatory for all 40-hour Crisis Intervention Team (CIT) training classes. \nYou must register directly with the individual County Coordinator hosting the training. Spaces are often limited! \nSimply showing up on the day of the class will NOT secure your seat. \nFind your County Coordinator’s contact information on the official CIT-NJ website to register today!
URL:https://cit-nj.org/events/bergen-county-40hr-cit-nj-program-6/
LOCATION:Paramus Life Safety Building\, 1 Carlough Dr.\, Paramus\, NJ\, 07652\, United States
ATTACH;FMTTYPE=image/jpeg:https://cit-nj.org/wp-content/uploads/2020/09/2-Bergen.jpg
END:VEVENT
BEGIN:VEVENT
DTSTART;VALUE=DATE:20251127
DTEND;VALUE=DATE:20251128
DTSTAMP:20260424T190645
CREATED:20251009T001407Z
LAST-MODIFIED:20251009T001407Z
UID:26350-1764201600-1764287999@cit-nj.org
SUMMARY:Happy Thanksgiving
DESCRIPTION:
URL:https://cit-nj.org/events/happy-thanksgiving/
ATTACH;FMTTYPE=image/jpeg:https://cit-nj.org/wp-content/uploads/2025/10/Thanksgiving.jpg
END:VEVENT
BEGIN:VEVENT
DTSTART;TZID=UTC:20251117T080000
DTEND;TZID=UTC:20251121T170000
DTSTAMP:20260424T190645
CREATED:20251008T231204Z
LAST-MODIFIED:20251008T231204Z
UID:26322-1763366400-1763744400@cit-nj.org
SUMMARY:Atlantic County 40hr CIT-NJ Program
DESCRIPTION:🚨 Important CIT Training Notice! 🚨\nTo ensure a smooth registration process and guarantee your spot\, please remember that pre-registration is mandatory for all 40-hour Crisis Intervention Team (CIT) training classes. \nYou must register directly with the individual County Coordinator hosting the training. Spaces are often limited! \nSimply showing up on the day of the class will NOT secure your seat. \nFind your County Coordinator’s contact information on the official CIT-NJ website to register today!
URL:https://cit-nj.org/events/atlantic-county-40hr-cit-nj-program-4/
LOCATION:Inspira EMS Station\, 600 Cedar Street\, Millville\, NJ\, 08332\, United States
ATTACH;FMTTYPE=image/png:https://cit-nj.org/wp-content/uploads/2025/10/cumberland.png
END:VEVENT
BEGIN:VEVENT
DTSTART;TZID=UTC:20251114T083000
DTEND;TZID=UTC:20251114T163000
DTSTAMP:20260424T190645
CREATED:20251008T235418Z
LAST-MODIFIED:20251008T235941Z
UID:26340-1763109000-1763137800@cit-nj.org
SUMMARY:Bergen County 1-Day CIT-NJ Tele-Communicators Course
DESCRIPTION:🚨 Important CIT Training Notice! 🚨\nTo ensure a smooth registration process and guarantee your spot\, please remember that pre-registration is mandatory for the Tele-Communicators Course. \nYou must register directly with the link below. Spaces are often limited! \nSimply showing up on the day of the class will NOT secure your seat. \nhttps://lp.constantcontactpages.com/ev/reg/zjfzj8g/lp/f9e89778-43ea-4f98-8f2d-45adaf507e77 \n 
URL:https://cit-nj.org/events/morris-county-1-day-cit-nj-tele-communicators-course-3/
LOCATION:Paramus Life Safety Building\, 1 Carlough Dr.\, Paramus\, NJ\, 07652\, United States
ATTACH;FMTTYPE=image/png:https://cit-nj.org/wp-content/uploads/2025/10/dispat.png
END:VEVENT
BEGIN:VEVENT
DTSTART;TZID=UTC:20251112T080000
DTEND;TZID=UTC:20251113T170000
DTSTAMP:20260424T190645
CREATED:20251009T000838Z
LAST-MODIFIED:20251009T001606Z
UID:26347-1762934400-1763053200@cit-nj.org
SUMMARY:NJ-VRT Program (Southern Training)
DESCRIPTION:🚨 Important CIT Training Notice! 🚨\nTo ensure a smooth registration process and guarantee your spot\, please remember that pre-registration is mandatory for the NJ-VRT training classes. \nYou must register directly with the individual County Coordinator or link below. \nSpaces are often limited and you must meet prerequisites. \nPrerequisites for this training are:\n#1. Previous or Current Service in the U.S. Military and Current Law Enforcement Officer\n#2. Be a graduate from a 40-hour CIT-NJ County or equivalent Program.\n#3. Must be able to attend both days. \nSimply showing up on the day of the class will NOT secure your seat. \nTo Register Click Here. \n 
URL:https://cit-nj.org/events/nj-vrt-program-southern-training/
ATTACH;FMTTYPE=image/jpeg:https://cit-nj.org/wp-content/uploads/2023/01/nj-cit-logoVeterans-1.jpg
END:VEVENT
BEGIN:VEVENT
DTSTART;TZID=UTC:20251107T080000
DTEND;TZID=UTC:20251107T160000
DTSTAMP:20260424T190645
CREATED:20251008T233549Z
LAST-MODIFIED:20251008T233549Z
UID:26338-1762502400-1762531200@cit-nj.org
SUMMARY:Morris County 1-Day CIT-NJ Tele-Communicators Course
DESCRIPTION:🚨 Important CIT Training Notice! 🚨 \nTo ensure a smooth registration process and guarantee your spot\, please remember that pre-registration is mandatory for the Tele-Communicators Course. \nYou must register directly with the individual County Coordinator hosting the training. Spaces are often limited!
URL:https://cit-nj.org/events/morris-county-1-day-cit-nj-tele-communicators-course-2/
ATTACH;FMTTYPE=image/png:https://cit-nj.org/wp-content/uploads/2025/10/dispat.png
END:VEVENT
BEGIN:VEVENT
DTSTART;TZID=UTC:20251103T080000
DTEND;TZID=UTC:20251107T170000
DTSTAMP:20260424T190645
CREATED:20251008T230701Z
LAST-MODIFIED:20251008T230701Z
UID:26320-1762156800-1762534800@cit-nj.org
SUMMARY:Atlantic County 40hr CIT-NJ Program
DESCRIPTION:🚨 Important CIT Training Notice! 🚨\nTo ensure a smooth registration process and guarantee your spot\, please remember that pre-registration is mandatory for all 40-hour Crisis Intervention Team (CIT) training classes. \nYou must register directly with the individual County Coordinator hosting the training. Spaces are often limited! \nSimply showing up on the day of the class will NOT secure your seat. \nFind your County Coordinator’s contact information on the official CIT-NJ website to register today!
URL:https://cit-nj.org/events/atlantic-county-40hr-cit-nj-program-3/
ATTACH;FMTTYPE=image/jpeg:https://cit-nj.org/wp-content/uploads/2020/09/1-Atlantic.jpg
ORGANIZER;CN="CIT-NJ Center of Excellence Program":MAILTO:edobleman@legacytreatment.org
END:VEVENT
BEGIN:VEVENT
DTSTART;TZID=UTC:20251029T100000
DTEND;TZID=UTC:20251029T120000
DTSTAMP:20260424T190645
CREATED:20251008T233335Z
LAST-MODIFIED:20251008T233335Z
UID:26336-1761732000-1761739200@cit-nj.org
SUMMARY:(988 Working Group Meeting)
DESCRIPTION:
URL:https://cit-nj.org/events/988-working-group-meeting/
ATTACH;FMTTYPE=image/jpeg:https://cit-nj.org/wp-content/uploads/2022/04/988.jpg
END:VEVENT
BEGIN:VEVENT
DTSTART;TZID=UTC:20251020T080000
DTEND;TZID=UTC:20251024T170000
DTSTAMP:20260424T190645
CREATED:20251008T230513Z
LAST-MODIFIED:20251008T230513Z
UID:26317-1760947200-1761325200@cit-nj.org
SUMMARY:Somerset County 40hr CIT-NJ Program
DESCRIPTION:🚨 Important CIT Training Notice! 🚨\nTo ensure a smooth registration process and guarantee your spot\, please remember that pre-registration is mandatory for all 40-hour Crisis Intervention Team (CIT) training classes. \nYou must register directly with the individual County Coordinator hosting the training. Spaces are often limited! \nSimply showing up on the day of the class will NOT secure your seat. \nFind your County Coordinator’s contact information on the official CIT-NJ website to register today!
URL:https://cit-nj.org/events/somerset-county-40hr-cit-nj-program-2/
LOCATION:Somerset County Police Academy\, 402 Roycefield Road\, Hillsborough Township\, NJ\, 08844\, United States
ATTACH;FMTTYPE=image/png:https://cit-nj.org/wp-content/uploads/2020/09/18-Somerset.png
ORGANIZER;CN="CIT-NJ Center of Excellence Program":MAILTO:edobleman@legacytreatment.org
END:VEVENT
BEGIN:VEVENT
DTSTART;TZID=UTC:20251020T080000
DTEND;TZID=UTC:20251024T170000
DTSTAMP:20260424T190645
CREATED:20251008T230223Z
LAST-MODIFIED:20251008T230223Z
UID:26315-1760947200-1761325200@cit-nj.org
SUMMARY:Middlesex County 40hr CIT-NJ Program
DESCRIPTION:🚨 Important CIT Training Notice! 🚨\nTo ensure a smooth registration process and guarantee your spot\, please remember that pre-registration is mandatory for all 40-hour Crisis Intervention Team (CIT) training classes. \nYou must register directly with the individual County Coordinator hosting the training. Spaces are often limited! \nSimply showing up on the day of the class will NOT secure your seat. \nFind your County Coordinator’s contact information on the official CIT-NJ website to register today!
URL:https://cit-nj.org/events/middlesex-county-40hr-cit-nj-program/
LOCATION:Middlesex County Prosecutor’s Office Training Center\, N Patrol Road\, Edison\, NJ\, 08837\, United States
ATTACH;FMTTYPE=image/jpeg:https://cit-nj.org/wp-content/uploads/2020/09/12-Middlesex.jpg
ORGANIZER;CN="CIT-NJ Center of Excellence Program":MAILTO:edobleman@legacytreatment.org
END:VEVENT
BEGIN:VEVENT
DTSTART;TZID=UTC:20251020T080000
DTEND;TZID=UTC:20251024T170000
DTSTAMP:20260424T190645
CREATED:20251008T230055Z
LAST-MODIFIED:20251008T230055Z
UID:26313-1760947200-1761325200@cit-nj.org
SUMMARY:Essex County 40hr CIT-NJ Program
DESCRIPTION:🚨 Important CIT Training Notice! 🚨\nTo ensure a smooth registration process and guarantee your spot\, please remember that pre-registration is mandatory for all 40-hour Crisis Intervention Team (CIT) training classes. \nYou must register directly with the individual County Coordinator hosting the training. Spaces are often limited! \nSimply showing up on the day of the class will NOT secure your seat. \nFind your County Coordinator’s contact information on the official CIT-NJ website to register today!
URL:https://cit-nj.org/events/essex-county-40hr-cit-nj-program-4/
ATTACH;FMTTYPE=image/png:https://cit-nj.org/wp-content/uploads/2020/09/7-Essex.png
END:VEVENT
BEGIN:VEVENT
DTSTART;TZID=UTC:20251020T080000
DTEND;TZID=UTC:20251024T170000
DTSTAMP:20260424T190645
CREATED:20251008T225838Z
LAST-MODIFIED:20251008T225838Z
UID:26311-1760947200-1761325200@cit-nj.org
SUMMARY:Cape May County 40hr CIT-NJ Program
DESCRIPTION:🚨 Important CIT Training Notice! 🚨\nTo ensure a smooth registration process and guarantee your spot\, please remember that pre-registration is mandatory for all 40-hour Crisis Intervention Team (CIT) training classes. \nYou must register directly with the individual County Coordinator hosting the training. Spaces are often limited! \nSimply showing up on the day of the class will NOT secure your seat. \nFind your County Coordinator’s contact information on the official CIT-NJ website to register today!
URL:https://cit-nj.org/events/cape-may-county-40hr-cit-nj-program-3/
LOCATION:Cape May Public Stafety Training Center\, 171 Crest Haven Road\, Cape May\, NJ\, 08210\, United States
END:VEVENT
BEGIN:VEVENT
DTSTART;TZID=UTC:20251020T080000
DTEND;TZID=UTC:20251024T170000
DTSTAMP:20260424T190645
CREATED:20251008T225608Z
LAST-MODIFIED:20251008T225608Z
UID:26309-1760947200-1761325200@cit-nj.org
SUMMARY:Passaic County 40hr CIT-NJ Program
DESCRIPTION:🚨 Important CIT Training Notice! 🚨\nTo ensure a smooth registration process and guarantee your spot\, please remember that pre-registration is mandatory for all 40-hour Crisis Intervention Team (CIT) training classes. \nYou must register directly with the individual County Coordinator hosting the training. Spaces are often limited! \nSimply showing up on the day of the class will NOT secure your seat. \nFind your County Coordinator’s contact information on the official CIT-NJ website to register today!
URL:https://cit-nj.org/events/passaic-county-40hr-cit-nj-program-2/
LOCATION:Passaic County Police Academy\, 214 Oldham Road\, Wayne\, NJ\, 07470\, United States
ATTACH;FMTTYPE=image/jpeg:https://cit-nj.org/wp-content/uploads/2020/09/16-Passaic.jpg
ORGANIZER;CN="CIT-NJ Center of Excellence Program":MAILTO:edobleman@legacytreatment.org
END:VEVENT
BEGIN:VEVENT
DTSTART;TZID=UTC:20251020T080000
DTEND;TZID=UTC:20251024T170000
DTSTAMP:20260424T190645
CREATED:20251008T225432Z
LAST-MODIFIED:20251008T225432Z
UID:26306-1760947200-1761325200@cit-nj.org
SUMMARY:Hudson County 40hr CIT-NJ Program
DESCRIPTION:🚨 Important CIT Training Notice! 🚨\nTo ensure a smooth registration process and guarantee your spot\, please remember that pre-registration is mandatory for all 40-hour Crisis Intervention Team (CIT) training classes. \nYou must register directly with the individual County Coordinator hosting the training. Spaces are often limited! \nSimply showing up on the day of the class will NOT secure your seat. \nFind your County Coordinator’s contact information on the official CIT-NJ website to register today!
URL:https://cit-nj.org/events/hudson-county-40hr-cit-nj-program-2/
LOCATION:Hudson County Prosecutor’s Office\, Hudson 595 County Avenue\, Building 3\, Secaucus\, NJ\, 07094\, United States
ATTACH;FMTTYPE=image/jpeg:https://cit-nj.org/wp-content/uploads/2020/09/9-Hudson.jpeg
ORGANIZER;CN="CIT-NJ Center of Excellence Program":MAILTO:edobleman@legacytreatment.org
END:VEVENT
BEGIN:VEVENT
DTSTART;TZID=UTC:20251020T080000
DTEND;TZID=UTC:20251024T170000
DTSTAMP:20260424T190645
CREATED:20251008T224945Z
LAST-MODIFIED:20251008T224945Z
UID:26303-1760947200-1761325200@cit-nj.org
SUMMARY:Hunterdon County 40hr CIT-NJ Program
DESCRIPTION:🚨 Important CIT Training Notice! 🚨\nTo ensure a smooth registration process and guarantee your spot\, please remember that pre-registration is mandatory for all 40-hour Crisis Intervention Team (CIT) training classes. \nYou must register directly with the individual County Coordinator hosting the training. Spaces are often limited! \nSimply showing up on the day of the class will NOT secure your seat. \nFind your County Coordinator’s contact information on the official CIT-NJ website to register today!
URL:https://cit-nj.org/events/hunterdon-county-40hr-cit-nj-program-3/
LOCATION:Hunterdon County Complex\, 314 State Route 12\, Flemington\, NJ\, 08822\, United States
ATTACH;FMTTYPE=image/jpeg:https://cit-nj.org/wp-content/uploads/2020/09/10-Hunterdon.jpg
ORGANIZER;CN="CIT-NJ Center of Excellence Program":MAILTO:edobleman@legacytreatment.org
END:VEVENT
END:VCALENDAR