BEGIN:VCALENDAR
VERSION:2.0
PRODID:-//CITNJ - ECPv6.15.20//NONSGML v1.0//EN
CALSCALE:GREGORIAN
METHOD:PUBLISH
X-WR-CALNAME:CITNJ
X-ORIGINAL-URL:https://cit-nj.org
X-WR-CALDESC:Events for CITNJ
REFRESH-INTERVAL;VALUE=DURATION:PT1H
X-Robots-Tag:noindex
X-PUBLISHED-TTL:PT1H
BEGIN:VTIMEZONE
TZID:UTC
BEGIN:STANDARD
TZOFFSETFROM:+0000
TZOFFSETTO:+0000
TZNAME:UTC
DTSTART:20250101T000000
END:STANDARD
END:VTIMEZONE
BEGIN:VEVENT
DTSTART;TZID=UTC:20260420T080000
DTEND;TZID=UTC:20260424T163000
DTSTAMP:20260424T190647
CREATED:20260217T021018Z
LAST-MODIFIED:20260217T021018Z
UID:26409-1776672000-1777048200@cit-nj.org
SUMMARY:Atlantic County 40hr CIT-NJ Program
DESCRIPTION: Important CIT Training Notice! \nTo ensure a smooth registration process and guarantee your spot\, please remember that pre-registration is mandatory for all 40-hour Crisis Intervention Team (CIT) training classes. \nYou must register directly with the individual County Coordinator hosting the training. Spaces are often limited! \nSimply showing up on the day of the class will NOT secure a seat. \nFind your County Coordinator’s contact information on the official CIT-NJ website to register today!
URL:https://cit-nj.org/events/atlantic-county-40hr-cit-nj-program-5/
LOCATION:NJ
ATTACH;FMTTYPE=image/jpeg:https://cit-nj.org/wp-content/uploads/2020/09/1-Atlantic.jpg
END:VEVENT
BEGIN:VEVENT
DTSTART;TZID=UTC:20260424T083000
DTEND;TZID=UTC:20260424T163000
DTSTAMP:20260424T190647
CREATED:20260302T020856Z
LAST-MODIFIED:20260409T194319Z
UID:26529-1777019400-1777048200@cit-nj.org
SUMMARY:CIT-NJ TeleCommunicators CIT-NJ Training Hudson County
DESCRIPTION:CIT-NJ is offering a 8hr course for Telecommunicators April 24\, 2026 in Hudson County\, NJ. This is approved by CIT staff & the State of NJ 9-1-1 Office of Emergency Telecommunications for 8 CTE’S.\nThe course is an effort to improve collaboration within the CIT-NJ program and build partnerships with police\, mental health\, & family members who’s loved one experiences a mental health crisis. COST is $100\n(We accept purchase orders\, check or cash payments)\nIf paying via purchase order email CIT-NJ Director Edward Dobleman\nedobleman@legacytreatment.org\nThis course will give a Telecommunicators the essential tools and education needed to help a caller in crisis or that may have a mental illness or disability.\nAfter this course you will have a better understanding of how to handle crisis situations and be able to decipher a call and the caller’s needs by knowing the correct questions to ask and how to best communicate with first responders\, and mental health professionals and families/individuals in crisis.\nEXPECTED OUTCOMES OF THIS TRAINING:\n* Introduced to the CIT-NJ Program\n* Learn about State/County resources\n* Gain new active listening skills\n* Recognize a mental health crisis\n* Dispatch the proper resources\n* Learn about mental illness\n* Verbally de-escalate callers\n* Certification and 8 CTE’s\nTo Register Click HERE.
URL:https://cit-nj.org/events/cit-nj-telecommunicators-cit-nj-training/
LOCATION:Hudson County Prosecutor’s Office\, Hudson 595 County Avenue\, Building 3\, Secaucus\, NJ\, 07094\, United States
ATTACH;FMTTYPE=image/jpeg:https://cit-nj.org/wp-content/uploads/2026/03/dispatcher-1-scaled.jpg
END:VEVENT
END:VCALENDAR